BEGIN:VCALENDAR
VERSION:2.0
PRODID:-//Graduate Women In Science - ECPv6.15.20//NONSGML v1.0//EN
CALSCALE:GREGORIAN
METHOD:PUBLISH
X-ORIGINAL-URL:https://www.gwisbeta.org
X-WR-CALDESC:Events for Graduate Women In Science
REFRESH-INTERVAL;VALUE=DURATION:PT1H
X-Robots-Tag:noindex
X-PUBLISHED-TTL:PT1H
BEGIN:VTIMEZONE
TZID:America/Chicago
BEGIN:DAYLIGHT
TZOFFSETFROM:-0600
TZOFFSETTO:-0500
TZNAME:CDT
DTSTART:20170312T080000
END:DAYLIGHT
BEGIN:STANDARD
TZOFFSETFROM:-0500
TZOFFSETTO:-0600
TZNAME:CST
DTSTART:20171105T070000
END:STANDARD
BEGIN:DAYLIGHT
TZOFFSETFROM:-0600
TZOFFSETTO:-0500
TZNAME:CDT
DTSTART:20180311T080000
END:DAYLIGHT
BEGIN:STANDARD
TZOFFSETFROM:-0500
TZOFFSETTO:-0600
TZNAME:CST
DTSTART:20181104T070000
END:STANDARD
BEGIN:DAYLIGHT
TZOFFSETFROM:-0600
TZOFFSETTO:-0500
TZNAME:CDT
DTSTART:20190310T080000
END:DAYLIGHT
BEGIN:STANDARD
TZOFFSETFROM:-0500
TZOFFSETTO:-0600
TZNAME:CST
DTSTART:20191103T070000
END:STANDARD
BEGIN:DAYLIGHT
TZOFFSETFROM:-0600
TZOFFSETTO:-0500
TZNAME:CDT
DTSTART:20200308T080000
END:DAYLIGHT
BEGIN:STANDARD
TZOFFSETFROM:-0500
TZOFFSETTO:-0600
TZNAME:CST
DTSTART:20201101T070000
END:STANDARD
BEGIN:DAYLIGHT
TZOFFSETFROM:-0600
TZOFFSETTO:-0500
TZNAME:CDT
DTSTART:20210314T080000
END:DAYLIGHT
BEGIN:STANDARD
TZOFFSETFROM:-0500
TZOFFSETTO:-0600
TZNAME:CST
DTSTART:20211107T070000
END:STANDARD
BEGIN:DAYLIGHT
TZOFFSETFROM:-0600
TZOFFSETTO:-0500
TZNAME:CDT
DTSTART:20220313T080000
END:DAYLIGHT
BEGIN:STANDARD
TZOFFSETFROM:-0500
TZOFFSETTO:-0600
TZNAME:CST
DTSTART:20221106T070000
END:STANDARD
END:VTIMEZONE
BEGIN:VEVENT
DTSTART;VALUE=DATE:20210209
DTEND;VALUE=DATE:20210210
DTSTAMP:20260423T014356
CREATED:20210312T160502Z
LAST-MODIFIED:20210312T160502Z
UID:18326-1612828800-1612915199@www.gwisbeta.org
SUMMARY:GWIS Madison Chapter Fellowship Award Applications Open
DESCRIPTION:Need some extra funding for your research? Consider applying for a Ruth Dickie Scholarship (up to $3000) or Grant-in-Aid ($500)! Applications open Today\, February 9th\, and are due at 5:59 pm on Monday\, March 22nd\, 2021. \nIf you are interested\, check our website (http://www.gwisbeta.org/awards/ruth-dickie-awards/)  \nFor more information about the scholarships\, application materials\, and guidelines for writing a great proposal\, or see the attached documents. Any dues-paying GWIS Beta Chapter member is eligible to apply!   \nIf you have any questions\, please contact the award coordinator Morgan Walcheck at mwalcheck@wisc.edu.  
URL:https://www.gwisbeta.org/event/gwis-madison-chapter-fellowship-award-applications-open/
END:VEVENT
BEGIN:VEVENT
DTSTART;TZID=America/Chicago:20210128T160000
DTEND;TZID=America/Chicago:20210128T170000
DTSTAMP:20260423T014356
CREATED:20210312T160021Z
LAST-MODIFIED:20210312T162023Z
UID:18318-1611849600-1611853200@www.gwisbeta.org
SUMMARY:Path to Career Speaker - Jackee Sanchez
DESCRIPTION:Join us Thursday January 28th at 4pm for Dr. Jackee Sanchez (Medical Science Liaison at AstraZeneca).\n\n \n\n \n\nDr. Jackee Sanchez is a Southern California native and received a B.S. in Biochemistry from Mount Saint Mary’s University in Los Angeles\, CA. She earned a Ph.D. in Pharmacology from the University of Michigan (Go Blue!). There\, she investigated therapeutic resistance mechanisms in BRAF-mutant melanomas and developed preclinical combination approaches with novel targeted therapies. During graduate school\, she also held various leadership positions at a non-profit life science consulting company gaining valuable market analysis and competitive intelligence experience. In her free time\, she enjoys spending time with her dog\, Luna\, all-things fitness\, and exploring/traveling to new cities\, stateside or overseas. Dr. Sanchez is currently Chicago-based and is a Medical Science Liaison at AstraZeneca providing medical support for the thoracic oncology portfolio.\n\n \n\nClick here to join the conversation
URL:https://www.gwisbeta.org/event/path-to-career-speaker-jackee-sanchez/
END:VEVENT
BEGIN:VEVENT
DTSTART;TZID=America/Chicago:20201123T170000
DTEND;TZID=America/Chicago:20201123T180000
DTSTAMP:20260423T014356
CREATED:20201118T161455Z
LAST-MODIFIED:20201118T161455Z
UID:18199-1606150800-1606154400@www.gwisbeta.org
SUMMARY:Graduate Student Panel - Diversity and Inclusion
DESCRIPTION:Please join GWIS in a conversation about creating a culture of diversity and inclusion in STEM. Topics will include sharing individual experiences\, navigating difficult situations\, advice for improvement in STEM\, and helpful resources. See below for details. \nSign up here! \nPlease add questions for the panelists here! \nZoom link: https://uwmadison.zoom.us/s/91427985498
URL:https://www.gwisbeta.org/event/graduate-student-panel-diversity-and-inclusion/
END:VEVENT
BEGIN:VEVENT
DTSTART;TZID=America/Chicago:20201119T150000
DTEND;TZID=America/Chicago:20201119T200000
DTSTAMP:20260423T014356
CREATED:20201028T193544Z
LAST-MODIFIED:20201028T194326Z
UID:18180-1605798000-1605816000@www.gwisbeta.org
SUMMARY:Fundraiser @ Salads UP!
DESCRIPTION:Graduate Women in Science (GWIS) is doing a fundraiser at Salads UP! Purchase a meal between 3-8 pm on Thursday\, November 19th\, and 15% of the profits will go to Graduate Women in Science! Pre-register to support GWIS: https://www.groupraise.com/events/167409 \nMention “Graduate Women in Science” in the order notes to donate 15% to GWIS! Order online at Salad’s Ups website!
URL:https://www.gwisbeta.org/event/fundraiser-salads-up/
LOCATION:Salad’s UP
END:VEVENT
BEGIN:VEVENT
DTSTART;TZID=America/Chicago:20181129T090000
DTEND;TZID=America/Chicago:20181129T110000
DTSTAMP:20260423T014356
CREATED:20181019T005327Z
LAST-MODIFIED:20181019T005327Z
UID:17716-1543482000-1543489200@www.gwisbeta.org
SUMMARY:3 Minute Thesis Competition
DESCRIPTION:
URL:https://www.gwisbeta.org/event/3-minute-thesis-competition/
END:VEVENT
BEGIN:VEVENT
DTSTART;TZID=America/Chicago:20181028T120000
DTEND;TZID=America/Chicago:20181028T160000
DTSTAMP:20260423T014356
CREATED:20181019T005204Z
LAST-MODIFIED:20181019T005204Z
UID:17714-1540728000-1540742400@www.gwisbeta.org
SUMMARY:Girl's World Expo
DESCRIPTION:
URL:https://www.gwisbeta.org/event/girls-world-expo/
END:VEVENT
END:VCALENDAR