BEGIN:VCALENDAR
VERSION:2.0
PRODID:-//Graduate Women In Science - ECPv6.15.20//NONSGML v1.0//EN
CALSCALE:GREGORIAN
METHOD:PUBLISH
X-ORIGINAL-URL:https://www.gwisbeta.org
X-WR-CALDESC:Events for Graduate Women In Science
REFRESH-INTERVAL;VALUE=DURATION:PT1H
X-Robots-Tag:noindex
X-PUBLISHED-TTL:PT1H
BEGIN:VTIMEZONE
TZID:America/Chicago
BEGIN:DAYLIGHT
TZOFFSETFROM:-0600
TZOFFSETTO:-0500
TZNAME:CDT
DTSTART:20200308T080000
END:DAYLIGHT
BEGIN:STANDARD
TZOFFSETFROM:-0500
TZOFFSETTO:-0600
TZNAME:CST
DTSTART:20201101T070000
END:STANDARD
BEGIN:DAYLIGHT
TZOFFSETFROM:-0600
TZOFFSETTO:-0500
TZNAME:CDT
DTSTART:20210314T080000
END:DAYLIGHT
BEGIN:STANDARD
TZOFFSETFROM:-0500
TZOFFSETTO:-0600
TZNAME:CST
DTSTART:20211107T070000
END:STANDARD
BEGIN:DAYLIGHT
TZOFFSETFROM:-0600
TZOFFSETTO:-0500
TZNAME:CDT
DTSTART:20220313T080000
END:DAYLIGHT
BEGIN:STANDARD
TZOFFSETFROM:-0500
TZOFFSETTO:-0600
TZNAME:CST
DTSTART:20221106T070000
END:STANDARD
BEGIN:DAYLIGHT
TZOFFSETFROM:-0600
TZOFFSETTO:-0500
TZNAME:CDT
DTSTART:20230312T080000
END:DAYLIGHT
BEGIN:STANDARD
TZOFFSETFROM:-0500
TZOFFSETTO:-0600
TZNAME:CST
DTSTART:20231105T070000
END:STANDARD
END:VTIMEZONE
BEGIN:VEVENT
DTSTART;TZID=America/Chicago:20220920T140000
DTEND;TZID=America/Chicago:20220920T160000
DTSTAMP:20260422T203238
CREATED:20220823T015937Z
LAST-MODIFIED:20220907T185421Z
UID:18830-1663682400-1663689600@www.gwisbeta.org
SUMMARY:Invenra Industry Tour
DESCRIPTION:Location & Time: Tuesday\, September 20; Invenra from 2-4pm. \nAre you interested in learning more about what it’s like to work in industry at a Ph.D.? Invenra has graciously invited a limited amount of people to tour their facilities. Interested individuals can sign up here! \nSpots are available on a first-come\, first-serve basis. GWIS dues paying members will be given priority.
URL:https://www.gwisbeta.org/event/invenra-industry-tour/
END:VEVENT
BEGIN:VEVENT
DTSTART;TZID=America/Chicago:20220907T180000
DTEND;TZID=America/Chicago:20220907T190000
DTSTAMP:20260422T203238
CREATED:20220823T015225Z
LAST-MODIFIED:20220823T020047Z
UID:18826-1662573600-1662577200@www.gwisbeta.org
SUMMARY:GWIS Beta Kickoff Social
DESCRIPTION:Location & Time: Wednesday\, September 7; Union South-The Sett at 5:30 PM  \nHang out with GWIS members during our first social of the 2022-2023 year! We’d love to see a mix of new and familiar faces. All people regardless of sex or gender welcome. \nPlease indicate interest using this form.  \n 
URL:https://www.gwisbeta.org/event/gwis-beta-kickoff-social/
LOCATION:Union Souh
END:VEVENT
BEGIN:VEVENT
DTSTART;TZID=America/Chicago:20220907T173000
DTEND;TZID=America/Chicago:20220907T180000
DTSTAMP:20260422T203238
CREATED:20220823T014936Z
LAST-MODIFIED:20220828T020233Z
UID:18824-1662571800-1662573600@www.gwisbeta.org
SUMMARY:GWIS Beta Kickoff Meeting
DESCRIPTION:Location & Time: Wednesday\, September 7; Union South at 5:30 PM  \nJoin us for our first GWIS meeting of the 2022-2023 year! Come with questions for our board members\, and bring your excitement for graduate women in science. Please feel free to stay for a group social afterwards! All people regardless of sex or gender welcome. \nPlease indicate your interest using this form. \n  \n 
URL:https://www.gwisbeta.org/event/gwis-beta-kickoff-meeting/
LOCATION:Union Souh
END:VEVENT
BEGIN:VEVENT
DTSTART;TZID=America/Chicago:20220625T090000
DTEND;TZID=America/Chicago:20220625T200000
DTSTAMP:20260422T203238
CREATED:20220420T200350Z
LAST-MODIFIED:20220420T200350Z
UID:18611-1656147600-1656187200@www.gwisbeta.org
SUMMARY:GWIS National Conference
DESCRIPTION:Schedule of events (*subject to change) \n9:00 – 9:30 am: Light breakfast with coffee/tea \n9:30 – 11:00 am: Poster session \n10:30 am – 12:00 pm: Quick talks/presentations \n12:00 – 1:30 pm: Career fair and lunch \n1:30 – 4:15 pm: Breakout sessions \n\n1:30 – 2:15 pm: Career panels\n\nIndustry\nAcademia\nGovernment\n\n\n2:30 – 3:15 pm: Skill-building breakout sessions\n\nCV/resume workshop with WiSolve Consulting Group\nSalary negotiations\n\n\n3:30 – 4:15 pm: Communication breakout sessions\n\nCommunication skills\nMentoring in the workplace\n\n\n\n4:30 – 5: 30 pm: KEYNOTE SPEAKER (Dr. Xu Simons) \n6:00 pm: Dinner and networking mixer
URL:https://www.gwisbeta.org/event/gwis-national-conference/
END:VEVENT
BEGIN:VEVENT
DTSTART;TZID=America/Chicago:20220624T180000
DTEND;TZID=America/Chicago:20220624T200000
DTSTAMP:20260422T203238
CREATED:20220420T195407Z
LAST-MODIFIED:20220420T195407Z
UID:18609-1656093600-1656100800@www.gwisbeta.org
SUMMARY:GWIS National Conference: Welcome Reception Dinner
DESCRIPTION:
URL:https://www.gwisbeta.org/event/gwis-national-conference-welcome-reception-dinner/
END:VEVENT
BEGIN:VEVENT
DTSTART;TZID=America/Chicago:20220624T153000
DTEND;TZID=America/Chicago:20220624T163000
DTSTAMP:20260422T203238
CREATED:20220420T195338Z
LAST-MODIFIED:20220420T195338Z
UID:18606-1656084600-1656088200@www.gwisbeta.org
SUMMARY:GWIS National Conference: Workshop on "How to create an inclusive environment"
DESCRIPTION:
URL:https://www.gwisbeta.org/event/gwis-national-conference-workshop-on-how-to-create-an-inclusive-environment/
LOCATION:Union Souh
END:VEVENT
BEGIN:VEVENT
DTSTART;TZID=America/Chicago:20220624T100000
DTEND;TZID=America/Chicago:20220624T150000
DTSTAMP:20260422T203238
CREATED:20220420T195208Z
LAST-MODIFIED:20220420T195208Z
UID:18604-1656064800-1656082800@www.gwisbeta.org
SUMMARY:GWIS National Conference: Grand Chapter Meeting
DESCRIPTION:GWIS Presidents and/or National Liaisons of each chapter across the US (and internationally) MUST attend this meeting.
URL:https://www.gwisbeta.org/event/gwis-national-conference-grand-chapter-meeting/
LOCATION:Union South
END:VEVENT
BEGIN:VEVENT
DTSTART;TZID=America/Chicago:20220623T090000
DTEND;TZID=America/Chicago:20220623T170000
DTSTAMP:20260422T203238
CREATED:20220420T194924Z
LAST-MODIFIED:20220420T195033Z
UID:18599-1655974800-1656003600@www.gwisbeta.org
SUMMARY:GWIS National Conference: National Council Meeting
DESCRIPTION:The National Council meeting is where the leaders of the national society meet to plan the following year’s events. Only national\nleadership attends this event.
URL:https://www.gwisbeta.org/event/gwis-national-conference-national-council-meeting/
LOCATION:Union South
END:VEVENT
BEGIN:VEVENT
DTSTART;TZID=America/Chicago:20220520T153000
DTEND;TZID=America/Chicago:20220520T170000
DTSTAMP:20260422T203238
CREATED:20220505T175230Z
LAST-MODIFIED:20220505T175451Z
UID:18708-1653060600-1653066000@www.gwisbeta.org
SUMMARY:Vitense Golfland Social Event
DESCRIPTION:Join us for a round of mini-golf at Vitense Golfland! Meet us in the lobby on 5/20. \nSign up here!
URL:https://www.gwisbeta.org/event/vitense-golfland-social/
LOCATION:Vitense Golfland
END:VEVENT
BEGIN:VEVENT
DTSTART;TZID=America/Chicago:20220520T130000
DTEND;TZID=America/Chicago:20220520T150000
DTSTAMP:20260422T203238
CREATED:20220322T164047Z
LAST-MODIFIED:20220517T161138Z
UID:18580-1653051600-1653058800@www.gwisbeta.org
SUMMARY:CANCELLED Industry Tours - Invenra
DESCRIPTION:This event has been cancelled for COVID-related illnesses. \n  \nInvenra is a life science company focused on developing the next generation of best-in-class biologics\, with an emphasis on multispecific antibodies and their derivatives. Sign up here by 5/1/22 so we can get a headcount. We’ll confirm attendance 2 weeks prior to the event. \nThe tour will be approximately 2 hours long\, consisting of a presentation on the company\, a tour\, and a panel discussion with PhD-level positions.
URL:https://www.gwisbeta.org/event/industry-tours-invenra/
END:VEVENT
BEGIN:VEVENT
DTSTART;TZID=America/Chicago:20220513T153000
DTEND;TZID=America/Chicago:20220513T170000
DTSTAMP:20260422T203238
CREATED:20220505T175415Z
LAST-MODIFIED:20220505T175415Z
UID:18712-1652455800-1652461200@www.gwisbeta.org
SUMMARY:Memorial Union Terrace Social Event
DESCRIPTION:After the Promega tour\, join us for food and drinks at the Terrace! Celebrate the end of the semester and (hopefully) some nice weather! \nSign up here! 
URL:https://www.gwisbeta.org/event/memorial-union-terrace-social-event/
END:VEVENT
BEGIN:VEVENT
DTSTART;TZID=America/Chicago:20220513T130000
DTEND;TZID=America/Chicago:20220513T150000
DTSTAMP:20260422T203238
CREATED:20220322T163907Z
LAST-MODIFIED:20220517T183017Z
UID:18578-1652446800-1652454000@www.gwisbeta.org
SUMMARY:Industry Tours - Promega
DESCRIPTION:Promega is a global company focused on applying biochemistry and molecular biology to the development of innovative\, high-value products. Sign up here by 4/1/22 so we can get a headcount. We’ll confirm attendance 2 weeks prior to the event. \nWe are looking to take around 12 members. Sign up is on a first come\, first serve basis \nThe tour will be approximately 2 hours long\, consisting of a presentation on the company\, a tour\, and a panel discussion with PhD-level positions.
URL:https://www.gwisbeta.org/event/industry-tours-promega/
END:VEVENT
BEGIN:VEVENT
DTSTART;TZID=America/Chicago:20220409T100000
DTEND;TZID=America/Chicago:20220409T120000
DTSTAMP:20260422T203238
CREATED:20220322T163612Z
LAST-MODIFIED:20220322T163612Z
UID:18576-1649498400-1649505600@www.gwisbeta.org
SUMMARY:Science Expeditions - Outreach Event
DESCRIPTION:Are you interested in communicating science to elementary and middle school students? Then Science Expeditions is for you! GWIS will be running a booth at the UW Science Expeditions on April 9th\, from 10am to noon. We are looking for 2-3 volunteers to help teach chromatography to science explorers. No background in this subject is necessary. If you are interested\, please use the sign up below or e-mail Brenna at bnwalton@wisc.edu! \nWhen: Saturday\, April 9th from 10am-12pm \nWhere: On UW Campus\, location TBD (likely WID) \nWho: Madison Area Public\, typically elementary and middle school students \nSign-up here!
URL:https://www.gwisbeta.org/event/science-expeditions-outreach-event/
END:VEVENT
BEGIN:VEVENT
DTSTART;TZID=America/Chicago:20220408T140000
DTEND;TZID=America/Chicago:20220408T150000
DTSTAMP:20260422T203238
CREATED:20220404T135544Z
LAST-MODIFIED:20220404T140422Z
UID:18586-1649426400-1649430000@www.gwisbeta.org
SUMMARY:Meet the Board Social!
DESCRIPTION:Do you want to work with a team of inspiring\, supportive\, and motivational women? Are you looking for a resume booster? If so\, consider applying for a leadership position in GWIS. We are currently recruiting officers for the following positions for the upcoming year: \nSecretary\nNational Liaison\nScholarship Coordinator\nTreasurer\n3 Minute Thesis Coordinator \nCandidates do not need to be currently active members but must be dues-paying at the time being on the board. \nWe have 2 Q&A sessions with the current board if you have any questions about the positions available. Otherwise\, come to socialize with us! If you can’t make either session but are interested\, feel free to email us to get in contact with a current board member. \nMeet us at the western entrance of Union South\, outside The Sett.
URL:https://www.gwisbeta.org/event/board-qa/
END:VEVENT
BEGIN:VEVENT
DTSTART;TZID=America/Chicago:20220225T130000
DTEND;TZID=America/Chicago:20220225T150000
DTSTAMP:20260422T203238
CREATED:20220128T175825Z
LAST-MODIFIED:20220128T175825Z
UID:18500-1645794000-1645801200@www.gwisbeta.org
SUMMARY:Industry Tours - Mirus Bio
DESCRIPTION:Mirus Bio is a life science company focused on discovering\, developing and commercializing innovative nucleic acid based technologies and products. If you’re interested in exploring careers in industry or biotechnology\, sign up here by Friday\, January 21st so we can get a head count. \nThe tour will be approximately 2 hours long\, consisting of a 15 min background talk on Mirus\, 15 min tour of the company\, followed by a panel discussion.
URL:https://www.gwisbeta.org/event/industry-tours-mirus-bio/
LOCATION:Mirus Bio\, 5602 Research Park Blvd UNIT 210\, Madison\, WI\, 53719\, United States
END:VEVENT
BEGIN:VEVENT
DTSTART;TZID=America/Chicago:20220220T110000
DTEND;TZID=America/Chicago:20220220T150000
DTSTAMP:20260422T203238
CREATED:20220207T153648Z
LAST-MODIFIED:20220207T153648Z
UID:18516-1645354800-1645369200@www.gwisbeta.org
SUMMARY:Mimosa Fest
DESCRIPTION:GWIS Spring 2022 Semester Kickoff! Mimosa Fest Madison (https://www.seetickets.us/event/Mimosa-Fest/459940) will be on February 20\, 2022 from 11AM to 3PM at Liquid (624 University Ave). There will be live music\, mimosas\, and food. General admission is $15/person. Vaccination status or negative COVID test is required to enter. We will meet outside Wando’s (corner of University and N Francis) at 11 AM to enter as a group. Please contact Kalina (phone: 574-903-3711 or email: kjreese@wisc.edu) with any questions! Please respond by Monday\, February 14 using this Google Doc: https://docs.google.com/forms/d/1XXMp1zn9c4JOSD_ORA4yq0adKSEi2rHIZdehp0AiAHk/edit?usp=sharing
URL:https://www.gwisbeta.org/event/mimosa-fest/
END:VEVENT
BEGIN:VEVENT
DTSTART;TZID=America/Chicago:20220218T100000
DTEND;TZID=America/Chicago:20220218T120000
DTSTAMP:20260422T203238
CREATED:20211208T150616Z
LAST-MODIFIED:20211208T150616Z
UID:18490-1645178400-1645185600@www.gwisbeta.org
SUMMARY:3 Minute Thesis Competition Finals
DESCRIPTION:Participants first competed in divisional semi-final competitions\, hosted on October 28 and November 3. \nThe top contestants from the semifinals will compete in the Three Minute Thesis® final competition for cash prizes and a chance to represent UW–Madison at the regional competition. The event and reception are free and open to the public; no registration required.
URL:https://www.gwisbeta.org/event/3-minute-thesis-competition-finals/
LOCATION:DeLuca Forum\, Discovery Building
END:VEVENT
BEGIN:VEVENT
DTSTART;TZID=America/Chicago:20220216T160000
DTEND;TZID=America/Chicago:20220216T170000
DTSTAMP:20260422T203238
CREATED:20220128T180136Z
LAST-MODIFIED:20220207T154240Z
UID:18504-1645027200-1645030800@www.gwisbeta.org
SUMMARY:Career Talk with Anne Turco\, Ph.D.
DESCRIPTION:  \nAs a study director (and GWIS alum!)\, Anne is responsible for overseeing\, interpreting\, and communicating results from pharmaceutical drug testing companies. This event will consist of a talk about the study director position\, followed by a Q&A session. \n  \nJoin Zoom Meeting\nhttps://uwmadison.zoom.us/j/92340453158?pwd=ei90YVFJTFlWUTNsWmpjSHJMamI2UT09 \nMeeting ID: 923 4045 3158\nPasscode: 390736\nOne tap mobile\n+13126266799\,\,92340453158#\,\,\,\,*390736# US (Chicago)\n+19292056099\,\,92340453158#\,\,\,\,*390736# US (New York)
URL:https://www.gwisbeta.org/event/career-talk-with-anne-turco-ph-d/
END:VEVENT
BEGIN:VEVENT
DTSTART;VALUE=DATE:20220207
DTEND;VALUE=DATE:20220208
DTSTAMP:20260422T203238
CREATED:20220207T154020Z
LAST-MODIFIED:20220207T154020Z
UID:18519-1644192000-1644278399@www.gwisbeta.org
SUMMARY:Ruth Dickie Scholarship Application Opens
DESCRIPTION:Ruth Dickie Awards
URL:https://www.gwisbeta.org/event/ruth-dickie-scholarship-application-opens/
END:VEVENT
BEGIN:VEVENT
DTSTART;TZID=America/Chicago:20211114T100000
DTEND;TZID=America/Chicago:20211114T133000
DTSTAMP:20260422T203238
CREATED:20211025T141910Z
LAST-MODIFIED:20211025T141910Z
UID:18473-1636884000-1636896600@www.gwisbeta.org
SUMMARY:Volunteering Event at Madison Marathon
DESCRIPTION:Join us in volunteering at the Madison Marathon! Sign up here by 11/4 if you’re interested.
URL:https://www.gwisbeta.org/event/volunteering-event-at-madison-marathon/
LOCATION:Capital Square
END:VEVENT
BEGIN:VEVENT
DTSTART;TZID=America/Chicago:20211103T160000
DTEND;TZID=America/Chicago:20211103T180000
DTSTAMP:20260422T203238
CREATED:20211025T153408Z
LAST-MODIFIED:20211025T153408Z
UID:18481-1635955200-1635962400@www.gwisbeta.org
SUMMARY:Three Minute Thesis Semi-Final (Biological Sciences)
DESCRIPTION:
URL:https://www.gwisbeta.org/event/three-minute-thesis-semi-final-biological-sciences/
LOCATION:Health Sciences Learning Center\, Room 1306
END:VEVENT
BEGIN:VEVENT
DTSTART;TZID=America/Chicago:20211028T160000
DTEND;TZID=America/Chicago:20211028T180000
DTSTAMP:20260422T203238
CREATED:20211025T153157Z
LAST-MODIFIED:20211025T153157Z
UID:18477-1635436800-1635444000@www.gwisbeta.org
SUMMARY:Three Minute Thesis Semi-Final (Physical science\, social science\, arts & humanities)
DESCRIPTION:
URL:https://www.gwisbeta.org/event/three-minute-thesis-semi-final-physical-science-social-science-arts-humanities/
LOCATION:Memorial Union\, 800 Langdon St\, Madison\, WI\, United States
END:VEVENT
BEGIN:VEVENT
DTSTART;TZID=America/Chicago:20211008T160000
DTEND;TZID=America/Chicago:20211008T200000
DTSTAMP:20260422T203238
CREATED:20210913T155334Z
LAST-MODIFIED:20210913T155638Z
UID:18463-1633708800-1633723200@www.gwisbeta.org
SUMMARY:Fundraiser @ Salads UP
DESCRIPTION:Join us for a fundraising event at Salads UP on Friday\, October 8th from 4 – 8 pm!! \nPlease commit to eat HERE! This meal will only happen if we have at least 20 commitments to eat! \nYou can order from the website or phone for takeout or delivery!
URL:https://www.gwisbeta.org/event/fundraiser-salads-up-2/
END:VEVENT
BEGIN:VEVENT
DTSTART;TZID=America/Chicago:20210920T163000
DTEND;TZID=America/Chicago:20210920T173000
DTSTAMP:20260422T203238
CREATED:20210913T155255Z
LAST-MODIFIED:20210913T155255Z
UID:18459-1632155400-1632159000@www.gwisbeta.org
SUMMARY:Fall 2021 GWIS Welcome Meeting
DESCRIPTION:Come join us for the Fall 2021 GWIS Welcome Meeting! Meet this year’s GWIS board members and learn about some great opportunities! \nHappening in person at Union South at 4:30 pm.
URL:https://www.gwisbeta.org/event/fall-2021-gwis-welcome-meeting/
LOCATION:Union South
END:VEVENT
BEGIN:VEVENT
DTSTART;TZID=America/Chicago:20210914T160000
DTEND;TZID=America/Chicago:20210914T210000
DTSTAMP:20260422T203238
CREATED:20210818T171810Z
LAST-MODIFIED:20210818T171810Z
UID:18443-1631635200-1631653200@www.gwisbeta.org
SUMMARY:Student Organization Fair
DESCRIPTION:The Student Organization Fair is an interactive fair for students to find out information about and make connections with Registered Student Organizations (RSOs) that align with their interests. \n  \nhttps://cfli.wisc.edu/attending-the-student-organization-fair/
URL:https://www.gwisbeta.org/event/student-organization-fair/
LOCATION:Kohl Center\, 601 W Dayton St\, Madison\, WI\, Madison\, 53703\, United States
END:VEVENT
BEGIN:VEVENT
DTSTART;TZID=America/Chicago:20210901T110000
DTEND;TZID=America/Chicago:20210901T163000
DTSTAMP:20260422T203238
CREATED:20210818T171510Z
LAST-MODIFIED:20210818T171510Z
UID:18440-1630494000-1630513800@www.gwisbeta.org
SUMMARY:New Graduate Student Welcome Resource Fair
DESCRIPTION:New Graduate Student Welcome\nWednesday\, September 1\, 2021\n11 am – 4:30 pm\nVarsity Hall\, Union South \nEach year\, the Graduate School invites all newly admitted graduate students to participate in the New Graduate Student Welcome. \nNew Graduate Student Welcome is an opportunity to hear from the Graduate School and campus leaders\, get advice from a panel of current students about grad student life\, learn about the many campus and community resources available to you\, and meet other new graduate students from across campus.
URL:https://www.gwisbeta.org/event/new-graduate-student-welcome-resource-fair/
LOCATION:Varsity Hall\, Union South
END:VEVENT
BEGIN:VEVENT
DTSTART;VALUE=DATE:20210409
DTEND;VALUE=DATE:20210412
DTSTAMP:20260422T203238
CREATED:20210312T160254Z
LAST-MODIFIED:20210312T160254Z
UID:18322-1617926400-1618185599@www.gwisbeta.org
SUMMARY:Wisconsin Science Festival
DESCRIPTION:
URL:https://www.gwisbeta.org/event/wisconsin-science-festival/
END:VEVENT
BEGIN:VEVENT
DTSTART;VALUE=DATE:20210408
DTEND;VALUE=DATE:20210409
DTSTAMP:20260422T203238
CREATED:20210312T163613Z
LAST-MODIFIED:20210312T163613Z
UID:18347-1617840000-1617926399@www.gwisbeta.org
SUMMARY:GWIS Madison Chapter Board Member Applications Due
DESCRIPTION:Interested in becoming a board member for the Madison chapter? Applications are currently open and close on April 8th! All dues-paying GWIS members are eligible to apply! \nIf you are ready to help plan events\, connect women scientists across the campus\, promote and support women scientists\, please apply to be on the Madison chapter board. Our positions open for application are Secretary\, Public Relations (2 positions)\, Outreach (1 position)\, National Liaison. Please fill out this survey https://forms.gle/w8Gawv6iKRzXjvLSA or check out our website for more information on each position.  \nTo apply: \n1) You must be an official GWIS member (have paid your dues) by April 8th. \n2) In one to two paragraphs\, describe “why you are applying for this position and why you are a good fit for the position.” \n3) Submit your CV \n4) complete a brief interview with a few of the current members of the board \nPlease submit your application materials to madison@gwis.org and Morgan Walcheck at mwalcheck@wisc.edu. If you have any questions\, do not hesitate to reach out using those emails as well. \nWe look forward to reading your applications and meeting interested members!
URL:https://www.gwisbeta.org/event/gwis-madison-chapter-board-member-applications-due/
END:VEVENT
BEGIN:VEVENT
DTSTART;TZID=America/Chicago:20210324T163000
DTEND;TZID=America/Chicago:20210324T173000
DTSTAMP:20260422T203238
CREATED:20210312T160809Z
LAST-MODIFIED:20210312T160809Z
UID:18332-1616603400-1616607000@www.gwisbeta.org
SUMMARY:Path to Career Speaker - Karla Hall
DESCRIPTION:Dr. Hall has a master’s in nuclear engineering and a Ph.D. in materials and science engineering from UW Madison. She graduated with her Ph.D. in 2019 and now works as a process engineer for Intel. She holds a passion for mentoring students and helping others succeed. She is part of STEMing PhorwarD\, a group that aims to “provide encouragement\, inspiration\, and motivation to younger generations of black and brown  scholars to pursue advanced degrees in science.”
URL:https://www.gwisbeta.org/event/path-to-career-speaker-karla-hall/
END:VEVENT
BEGIN:VEVENT
DTSTART;TZID=America/Chicago:20210323T113000
DTEND;TZID=America/Chicago:20210323T123000
DTSTAMP:20260422T203238
CREATED:20210312T160617Z
LAST-MODIFIED:20210312T160617Z
UID:18328-1616499000-1616502600@www.gwisbeta.org
SUMMARY:Science Outreach at Madison Middle School
DESCRIPTION:
URL:https://www.gwisbeta.org/event/science-outreach-at-madison-middle-school/
END:VEVENT
END:VCALENDAR